Workbook

Sheet 登録リスト
B1: 図書ID | C1: 登録番号 | D1: 書名※ | E1: 巻次 | F1: 叢書名 | G1: 著者 | H1: 出版地 | I1: 出版社 | J1: 出版年 | K1: ページ数 | L1: サイズ | M1: 分類 | N1: ISBN | O1: 配架場所 | P1: 状態 | Q1: 公開日時※ | R1: 終了日時 | S1: 管理用コメント
B2: 2 | D2: 「台湾時報」総目録 | F2: 中島利郎 | J2: =IFERROR(VLOOKUP(B2,出版年!A:B,2,FALSE),"") -> 1997 | N2: =IFERROR(VLOOKUP(B2,図書分類!A:B,2,FALSE),"") -> 図書分類 ＞ 総記 | O2: 一般 | P2: 0 | Q2: 43157
B3: 16204 | D3: 館藏臺灣文獻期刊論文索引 | G3: 國立中央圖書館臺灣分館 | J3: =IFERROR(VLOOKUP(B3,出版年!A:B,2,FALSE),"") -> 1999 | N3: =IFERROR(VLOOKUP(B3,図書分類!A:B,2,FALSE),"") -> 図書分類 ＞ 総記 | O3: 一般 | P3: 0 | Q3: 43157
B4: 16205 | D4: 旧植民地関係機関刊行物総合目録 台湾編 | G4: ｱｼﾞｱ経済研究所 | J4: =IFERROR(VLOOKUP(B4,出版年!A:B,2,FALSE),"") -> 1973 | N4: =IFERROR(VLOOKUP(B4,図書分類!A:B,2,FALSE),"") -> 図書分類 ＞ 総記 | O4: 一般 | P4: 0 | Q4: 43157
B5: 16206 | D5: 国会図書館所蔵中国語・ 朝鮮語雑誌新聞目録 | G5: 国立国会図書館 | J5: =IFERROR(VLOOKUP(B5,出版年!A:B,2,FALSE),"") -> 1986 | N5: =IFERROR(VLOOKUP(B5,図書分類!A:B,2,FALSE),"") -> 図書分類 ＞ 総記 | O5: 一般 | P5: 0 | Q5: 43157
B6: 16207 | D6: 図書総目録 | G6: 塩見俊二編 | J6: =IFERROR(VLOOKUP(B6,出版年!A:B,2,FALSE),"") -> 1970 | N6: =IFERROR(VLOOKUP(B6,図書分類!A:B,2,FALSE),"") -> 図書分類 ＞ 総記 | O6: 一般 | P6: 0 | Q6: 43157
B7: 16208 | D7: 台湾関係図書目録 1997 | G7: 交流協会日台交流センター | J7: =IFERROR(VLOOKUP(B7,出版年!A:B,2,FALSE),"") -> 1998 | N7: =IFERROR(VLOOKUP(B7,図書分類!A:B,2,FALSE),"") -> 図書分類 ＞ 総記 | O7: 一般 | P7: 0 | Q7: 43157
B8: 16209 | D8: 台湾関係文献資料目録 河原功蔵書 | G8: 河原 功 | J8: =IFERROR(VLOOKUP(B8,出版年!A:B,2,FALSE),"") -> 1994 | N8: =IFERROR(VLOOKUP(B8,図書分類!A:B,2,FALSE),"") -> 図書分類 ＞ 総記 | O8: 一般 | P8: 0 | Q8: 43157
B9: 16210 | D9: 淡水工商管理学院臺灣文學資料館典蔵目録 | G9: 葉 能哲 | J9: =IFERROR(VLOOKUP(B9,出版年!A:B,2,FALSE),"") -> 1999 | N9: =IFERROR(VLOOKUP(B9,図書分類!A:B,2,FALSE),"") -> 図書分類 ＞ 総記 | O9: 一般 | P9: 0 | Q9: 43157
B10: 16211 | D10: 朝鮮関係文献資料 総目録 | G10: 近藤釼一 | J10: =IFERROR(VLOOKUP(B10,出版年!A:B,2,FALSE),"") -> 1961 | N10: =IFERROR(VLOOKUP(B10,図書分類!A:B,2,FALSE),"") -> 図書分類 ＞ 総記 | O10: 一般 | P10: 0 | Q10: 43157
B11: 16212 | D11: 内田嘉吉文庫稀▲集覧 | G11: 内田嘉吉記念事業 | J11: =IFERROR(VLOOKUP(B11,出版年!A:B,2,FALSE),"") -> 1936 | N11: =IFERROR(VLOOKUP(B11,図書分類!A:B,2,FALSE),"") -> 図書分類 ＞ 総記 | O11: 一般 | P11: 0 | Q11: 43157
B12: 16213 | D12: 南方文献目録 | G12: 日本拓殖協會 | J12: =IFERROR(VLOOKUP(B12,出版年!A:B,2,FALSE),"") -> 1942 | N12: =IFERROR(VLOOKUP(B12,図書分類!A:B,2,FALSE),"") -> 図書分類 ＞ 総記 | O12: 一般 | P12: 0 | Q12: 43157
B13: 16214 | D13: 南方文献目録ー増補 | G13: 日本拓殖協會 | J13: =IFERROR(VLOOKUP(B13,出版年!A:B,2,FALSE),"") -> 1944 | N13: =IFERROR(VLOOKUP(B13,図書分類!A:B,2,FALSE),"") -> 図書分類 ＞ 総記 | O13: 一般 | P13: 0 | Q13: 43157
B14: 16215 | D14: 南洋文献目録 | G14: 太平洋協會 | J14: =IFERROR(VLOOKUP(B14,出版年!A:B,2,FALSE),"") -> 1941 | N14: =IFERROR(VLOOKUP(B14,図書分類!A:B,2,FALSE),"") -> 図書分類 ＞ 総記 | O14: 一般 | P14: 0 | Q14: 43157
... B22: 16223 | D22: ホルモオサア | G22: 山口 惇 | J22: =IFERROR(VLOOKUP(B22,出版年!A:B,2,FALSE),"") -> 1996 | N22: =IFERROR(VLOOKUP(B22,図書分類!A:B,2,FALSE),"") -> 図書分類 ＞ 総記 | O22: 一般 | P22: 0 | Q22: 43157
B23: 16224 | D23: 台湾教育余話 | J23: =IFERROR(VLOOKUP(B23,出版年!A:B,2,FALSE),"") | N23: =IFERROR(VLOOKUP(B23,図書分類!A:B,2,FALSE),"") -> 図書分類 ＞ 総記 | O23: 一般 | P23: 0 | Q23: 43157
B24: 16225 | D24: 中日思惟差異 | G24: 國立台灣台學綜合研究中心 | J24: =IFERROR(VLOOKUP(B24,出版年!A:B,2,FALSE),"") -> 1994 | N24: =IFERROR(VLOOKUP(B24,図書分類!A:B,2,FALSE),"") -> 図書分類 ＞ 総記 | O24: 一般 | P24: 0 | Q24: 43157
B25: 16226 | D25: 中日文化差異検討會論文集 | G25: 許 介鱗 | J25: =IFERROR(VLOOKUP(B25,出版年!A:B,2,FALSE),"") -> 1992 | N25: =IFERROR(VLOOKUP(B25,図書分類!A:B,2,FALSE),"") -> 図書分類 ＞ 総記 | O25: 一般 | P25: 0 | Q25: 43157
B26: 16227 | D26: 日本々國民に與ふ | G26: 蔡 培火 | J26: =IFERROR(VLOOKUP(B26,出版年!A:B,2,FALSE),"") -> 1928 | N26: =IFERROR(VLOOKUP(B26,図書分類!A:B,2,FALSE),"") -> 図書分類 ＞ 総記 | O26: 一般 | P26: 0 | Q26: 43157
B27: 16228 | D27: 八甲会誌 | G27: 宮城八甲会 | J27: =IFERROR(VLOOKUP(B27,出版年!A:B,2,FALSE),"") -> 1977 | N27: =IFERROR(VLOOKUP(B27,図書分類!A:B,2,FALSE),"") -> 図書分類 ＞ 総記 | O27: 一般 | P27: 0 | Q27: 43157
B28: 16229 | D28: ｱｼﾞｱ動向年報1971 | G28: ｱｼﾞｱ経済研究所 | J28: =IFERROR(VLOOKUP(B28,出版年!A:B,2,FALSE),"") -> 1971 | N28: =IFERROR(VLOOKUP(B28,図書分類!A:B,2,FALSE),"") -> 図書分類 ＞ 総記 | O28: 一般 | P28: 0 | Q28: 43157
B29: 16230 | D29: 旬刊台新 第１巻 | G29: 河原 功 監修 | J29: =IFERROR(VLOOKUP(B29,出版年!A:B,2,FALSE),"") -> 1999 | N29: =IFERROR(VLOOKUP(B29,図書分類!A:B,2,FALSE),"") -> 図書分類 ＞ 総記 | O29: 一般 | P29: 0 | Q29: 43157
B30: 16231 | D30: 旬刊台新 第２巻 | G30: 河原 功 監修 | J30: =IFERROR(VLOOKUP(B30,出版年!A:B,2,FALSE),"") -> 1999 | N30: =IFERROR(VLOOKUP(B30,図書分類!A:B,2,FALSE),"") -> 図書分類 ＞ 総記 | O30: 一般 | P30: 0 | Q30: 43157
B31: 16232 | D31: 旬刊台新 別冊 解題･総目次･索引 | G31: 河原 功 監修 | J31: =IFERROR(VLOOKUP(B31,出版年!A:B,2,FALSE),"") -> 1999 | N31: =IFERROR(VLOOKUP(B31,図書分類!A:B,2,FALSE),"") -> 図書分類 ＞ 総記 | O31: 一般 | P31: 0 | Q31: 43157
B32: 16233 | D32: 太平洋地域研究所 研究紀要 1 | G32: 太平洋地域研究所 | J32: =IFERROR(VLOOKUP(B32,出版年!A:B,2,FALSE),"") -> 1990 | N32: =IFERROR(VLOOKUP(B32,図書分類!A:B,2,FALSE),"") -> 図書分類 ＞ 総記 | O32: 一般 | P32: 0 | Q32: 43157
B33: 16234 | D33: 台湾年鑑 1973年度版 | G33: 台湾問題研究所 | J33: =IFERROR(VLOOKUP(B33,出版年!A:B,2,FALSE),"") -> 1973 | N33: =IFERROR(VLOOKUP(B33,図書分類!A:B,2,FALSE),"") -> 図書分類 ＞ 総記 | O33: 一般 | P33: 0 | Q33: 43157
B34: 16235 | D34: China Yearbook 1958～59 | G34: China Publising Co. | J34: =IFERROR(VLOOKUP(B34,出版年!A:B,2,FALSE),"") -> 1958 | N34: =IFERROR(VLOOKUP(B34,図書分類!A:B,2,FALSE),"") -> 図書分類 ＞ 総記 | O34: 江藤文庫 | P34: 0 | Q34: 43157
B35: 16236 | D35: China Yearbook 1962～63 | G35: China Publising Co. | J35: =IFERROR(VLOOKUP(B35,出版年!A:B,2,FALSE),"") -> 1962 | N35: =IFERROR(VLOOKUP(B35,図書分類!A:B,2,FALSE),"") -> 図書分類 ＞ 総記 | O35: 江藤文庫 | P35: 0 | Q35: 43157
... B1956: 18157 | D1956: 臺灣繪本 | G1956: 西川 満 | J1956: =IFERROR(VLOOKUP(B1956,出版年!A:B,2,FALSE),"") -> 1943 | N1956: =IFERROR(VLOOKUP(B1956,図書分類!A:B,2,FALSE),"") -> 図書分類 ＞ 芸術 | O1956: 一般 | P1956: 0 | Q1956: 43157
B1957: 18158 | D1957: 大津絵 | J1957: =IFERROR(VLOOKUP(B1957,出版年!A:B,2,FALSE),"") | N1957: =IFERROR(VLOOKUP(B1957,図書分類!A:B,2,FALSE),"") -> 図書分類 ＞ 芸術 | O1957: 江藤文庫 | P1957: 0 | Q1957: 43157
B1958: 18159 | D1958: 臺灣繪本 | G1958: 西川 満 | J1958: =IFERROR(VLOOKUP(B1958,出版年!A:B,2,FALSE),"") -> 1943 | N1958: =IFERROR(VLOOKUP(B1958,図書分類!A:B,2,FALSE),"") -> 図書分類 ＞ 芸術 | O1958: 西川文庫 | P1958: 0 | Q1958: 43157
B1959: 18160 | D1959: 臺灣拓殖画帖 | G1959: 臺灣商報社 | J1959: =IFERROR(VLOOKUP(B1959,出版年!A:B,2,FALSE),"") -> 1918 | N1959: =IFERROR(VLOOKUP(B1959,図書分類!A:B,2,FALSE),"") -> 図書分類 ＞ 芸術 | O1959: 一般 | P1959: 0 | Q1959: 43157
B1960: 18161 | D1960: 臺灣名所寫真帖 | G1960: 臺灣商報社 | J1960: =IFERROR(VLOOKUP(B1960,出版年!A:B,2,FALSE),"") -> 1899 | N1960: =IFERROR(VLOOKUP(B1960,図書分類!A:B,2,FALSE),"") -> 図書分類 ＞ 芸術 | O1960: 一般 | P1960: 0 | Q1960: 43157
B1961: 18162 | D1961: 児玉総督凱旋歓迎記念冩真帖 | G1961: 臺灣日日新報社 | J1961: =IFERROR(VLOOKUP(B1961,出版年!A:B,2,FALSE),"") -> 1906 | N1961: =IFERROR(VLOOKUP(B1961,図書分類!A:B,2,FALSE),"") -> 図書分類 ＞ 芸術 | O1961: 江藤文庫 | P1961: 0 | Q1961: 43157
B1962: 18163 | D1962: 新しい台湾 | G1962: ｱｻﾋ写真ﾌﾞｯｸ | J1962: =IFERROR(VLOOKUP(B1962,出版年!A:B,2,FALSE),"") -> 1958 | N1962: =IFERROR(VLOOKUP(B1962,図書分類!A:B,2,FALSE),"") -> 図書分類 ＞ 芸術 | O1962: 江藤文庫 | P1962: 0 | Q1962: 43157
B1963: 18164 | D1963: 大タロコ景観 | G1963: 片山冩真館 | J1963: =IFERROR(VLOOKUP(B1963,出版年!A:B,2,FALSE),"") -> 1935 | N1963: =IFERROR(VLOOKUP(B1963,図書分類!A:B,2,FALSE),"") -> 図書分類 ＞ 芸術 | O1963: 江藤文庫 | P1963: 0 | Q1963: 43157
B1964: 18165 | D1964: 南方の據点・臺灣 | G1964: 朝日新聞社 | J1964: =IFERROR(VLOOKUP(B1964,出版年!A:B,2,FALSE),"") -> 1944 | N1964: =IFERROR(VLOOKUP(B1964,図書分類!A:B,2,FALSE),"") -> 図書分類 ＞ 芸術 | O1964: 江藤文庫 | P1964: 0 | Q1964: 43157
B1965: 18166 | D1965: 冩真帖 | G1965: 臺灣銀行 | J1965: =IFERROR(VLOOKUP(B1965,出版年!A:B,2,FALSE),"") -> 1916 | N1965: =IFERROR(VLOOKUP(B1965,図書分類!A:B,2,FALSE),"") -> 図書分類 ＞ 芸術 | O1965: 江藤文庫 | P1965: 0 | Q1965: 43157
B1966: 18167 | D1966: 臺北冩真帖 | G1966: 村崎 長 | J1966: =IFERROR(VLOOKUP(B1966,出版年!A:B,2,FALSE),"") -> 1913 | N1966: =IFERROR(VLOOKUP(B1966,図書分類!A:B,2,FALSE),"") -> 図書分類 ＞ 芸術 | O1966: 江藤文庫 | P1966: 0 | Q1966: 43157
B1967: 18168 | D1967: 臺灣国立公園冩真集 | G1967: 臺灣国立公園協会 | J1967: =IFERROR(VLOOKUP(B1967,出版年!A:B,2,FALSE),"") -> 1934 | N1967: =IFERROR(VLOOKUP(B1967,図書分類!A:B,2,FALSE),"") -> 図書分類 ＞ 芸術 | O1967: 江藤文庫 | P1967: 0 | Q1967: 43157
...

Sheet 出版年
A1: 図書ID | B1: 出版年
A2: 16204 | B2: 1999
A3: 16205 | B3: 1973
A4: 16206 | B4: 1986
A5: 16207 | B5: 1970
A6: 16208 | B6: 1998
A7: 16209 | B7: 1994
A8: 16210 | B8: 1999
A9: 16211 | B9: 1961
A10: 16212 | B10: 1936
A11: 16213 | B11: 1942
A12: 16214 | B12: 1944
A13: 16215 | B13: 1941
... A6243: 22656 | B6243: 1990
A6244: 22657 | B6244: 不明
A6245: 22658 | B6245: 1973
A6246: 22659 | B6246: 1983
A6247: 22660 | B6247: 1978
A6248: 22661 | B6248: 1979
A6249: 22662 | B6249: 1980
A6250: 22663 | B6250: 1987
A6251: 22664 | B6251: 1987
A6252: 22665 | B6252: 1988
A6253: 22666 | B6253: 1988
A6254: 22667 | B6254: 1989
A6255: 22668 | B6255: 1989
A6256: 22669 | B6256: 1990
... A6523: 22943 | B6523: 2000

Sheet 図書分類
A1: 図書ID | B1: カテゴリ
A2: 16204 | B2: 図書分類 ＞ 総記
A3: 16205 | B3: 図書分類 ＞ 総記
A4: 16206 | B4: 図書分類 ＞ 総記
A5: 16207 | B5: 図書分類 ＞ 総記
A6: 16208 | B6: 図書分類 ＞ 総記
A7: 16209 | B7: 図書分類 ＞ 総記
A8: 16210 | B8: 図書分類 ＞ 総記
A9: 16211 | B9: 図書分類 ＞ 総記
A10: 16212 | B10: 図書分類 ＞ 総記
A11: 16213 | B11: 図書分類 ＞ 総記
A12: 16214 | B12: 図書分類 ＞ 総記
A13: 16215 | B13: 図書分類 ＞ 総記
... A6735: 22943 | B6735: 同窓会 ＞ 同窓会誌等 ＞ 中等学校・高等女学校 ＞ 台北州
